BEGIN:VCALENDAR
VERSION:2.0
PRODID:-//wp-events-plugin.com//7.2.3.1//EN
TZID:America/Detroit
X-WR-TIMEZONE:America/Detroit
BEGIN:VEVENT
UID:21@hollytownship.org
DTSTART;TZID=America/Detroit:20241007T150000
DTEND;TZID=America/Detroit:20241007T160000
DTSTAMP:20241003T193446Z
URL:https://hollytownship.org/events/nocfa-special-meeting/
SUMMARY:NOCFA Special Meeting
DESCRIPTION:NOCFA Notice of October 7\, 2024 Special Meeting and Proposed A
 genda
CATEGORIES:Meetings
LOCATION:NOCFA Station 3\, 280 W. Rose Center\, Holly\, MI\, 48442\, United
  States
X-APPLE-STRUCTURED-LOCATION;VALUE=URI;X-ADDRESS=280 W. Rose Center\, Holly\
 , MI\, 48442\, United States;X-APPLE-RADIUS=100;X-TITLE=NOCFA Station 3:ge
 o:0,0
END:VEVENT
BEGIN:VTIMEZONE
TZID:America/Detroit
X-LIC-LOCATION:America/Detroit
BEGIN:DAYLIGHT
DTSTART:20240310T030000
TZOFFSETFROM:-0500
TZOFFSETTO:-0400
TZNAME:EDT
END:DAYLIGHT
END:VTIMEZONE
END:VCALENDAR