BEGIN:VCALENDAR
VERSION:2.0
PRODID:-//wp-events-plugin.com//7.2.3.1//EN
TZID:America/Detroit
X-WR-TIMEZONE:America/Detroit
BEGIN:VEVENT
UID:53@hollytownship.org
DTSTART;TZID=America/Detroit;VALUE=DATE:20241014
DTEND;TZID=America/Detroit;VALUE=DATE:20241015
DTSTAMP:20241010T204403Z
URL:https://hollytownship.org/events/closed-in-observation-of-columbus-day
 /
SUMMARY:Closed in Observation of Columbus Day
DESCRIPTION:
END:VEVENT
BEGIN:VTIMEZONE
TZID:America/Detroit
X-LIC-LOCATION:America/Detroit
BEGIN:DAYLIGHT
DTSTART:20240310T030000
TZOFFSETFROM:-0500
TZOFFSETTO:-0400
TZNAME:EDT
END:DAYLIGHT
END:VTIMEZONE
END:VCALENDAR