BEGIN:VCALENDAR
VERSION:2.0
PRODID:-//wp-events-plugin.com//7.2.3.1//EN
TZID:America/Detroit
X-WR-TIMEZONE:America/Detroit
BEGIN:VEVENT
UID:506@hollytownship.org
DTSTART;TZID=America/Detroit:20251125T183000
DTEND;TZID=America/Detroit:20251125T183000
DTSTAMP:20251125T175657Z
URL:https://hollytownship.org/events/canceled-north-oakland-county-fire-au
 thority-board-of-trustees-meeting/
SUMMARY:Canceled - North Oakland County Fire Authority Board of Trustees Me
 eting
DESCRIPTION:North Oakland County Fire Authority Board of Trustees Meeting i
 s canceled due to lack of business
END:VEVENT
BEGIN:VTIMEZONE
TZID:America/Detroit
X-LIC-LOCATION:America/Detroit
BEGIN:STANDARD
DTSTART:20251102T010000
TZOFFSETFROM:-0400
TZOFFSETTO:-0500
TZNAME:EST
END:STANDARD
END:VTIMEZONE
END:VCALENDAR